BEGIN:VCALENDAR
VERSION:2.0
PRODID:-//SDFS - ECPv6.15.20//NONSGML v1.0//EN
CALSCALE:GREGORIAN
METHOD:PUBLISH
X-WR-CALNAME:SDFS
X-ORIGINAL-URL:https://demofabriksiegen.de
X-WR-CALDESC:Veranstaltungen für SDFS
REFRESH-INTERVAL;VALUE=DURATION:PT1H
X-Robots-Tag:noindex
X-PUBLISHED-TTL:PT1H
BEGIN:VTIMEZONE
TZID:Europe/Berlin
BEGIN:DAYLIGHT
TZOFFSETFROM:+0100
TZOFFSETTO:+0200
TZNAME:CEST
DTSTART:20250330T010000
END:DAYLIGHT
BEGIN:STANDARD
TZOFFSETFROM:+0200
TZOFFSETTO:+0100
TZNAME:CET
DTSTART:20251026T010000
END:STANDARD
BEGIN:DAYLIGHT
TZOFFSETFROM:+0100
TZOFFSETTO:+0200
TZNAME:CEST
DTSTART:20260329T010000
END:DAYLIGHT
BEGIN:STANDARD
TZOFFSETFROM:+0200
TZOFFSETTO:+0100
TZNAME:CET
DTSTART:20261025T010000
END:STANDARD
BEGIN:DAYLIGHT
TZOFFSETFROM:+0100
TZOFFSETTO:+0200
TZNAME:CEST
DTSTART:20270328T010000
END:DAYLIGHT
BEGIN:STANDARD
TZOFFSETFROM:+0200
TZOFFSETTO:+0100
TZNAME:CET
DTSTART:20271031T010000
END:STANDARD
END:VTIMEZONE
BEGIN:VEVENT
DTSTART;TZID=Europe/Berlin:20260121T140000
DTEND;TZID=Europe/Berlin:20260121T180000
DTSTAMP:20260426T012203
CREATED:20260108T094735Z
LAST-MODIFIED:20260108T113338Z
UID:2886-1769004000-1769018400@demofabriksiegen.de
SUMMARY:Zwischen Werkbank & Algorithmus
DESCRIPTION:Wie verändert die Digitalisierung die industrielle Ausbildung? Welche Rolle spielen Künstliche Intelligenz\, digitale Zwillinge und moderne Produktionssysteme bei der Qualifizierung zukünftiger Fachkräfte? \nMit der Veranstaltung „Zwischen Werkbank & Algorithmus“ lädt die SDFS  gemeinsam mit DMG MORI und dem SLB (Smarte Lernfabrik Buschhütten) zu einem praxisnahen Austausch rund um die Zukunft der industriellen Ausbildung und Produktion ein. \nDie Teilnehmenden erwarten spannende Impulse und Fachvorträge zu folgenden Themen: \n\nZukunft der industriellen Ausbildung im digitalen Zeitalter\nEinsatz von Künstlicher Intelligenz in der Produktion\nQualifizierung des Fachkräftenachwuchses mit GenAI und TULIP\nPraxisnahe Use-Cases im Rahmen eines Rundgangs am Campus Buschhütten\n\nDen Abschluss bildet ein gemeinsames Get-Together mit Abendessen und Networking. \nVeranstaltungsdetails\nDatum: 21. Januar 2026Uhrzeit: ab 14:00 UhrOrt: Campus Buschhütten\, Siegener Straße 152\, 57223 Kreuztal \nAnmeldung\nDie Anmeldung zur Veranstaltung erfolgt über folgenden Link:https://forms.office.com/e/rbsKB9e7LA
URL:https://demofabriksiegen.de/event/zwischen-werkbank-algorithmus/
LOCATION:Campus Buschhütten\, Siegener Str. 152\, Kreuztal\, NRW\, 57223\, Germany
ATTACH;FMTTYPE=image/png:https://demofabriksiegen.de/wp-content/uploads/2026/01/Productive-Afterhour-30.-Oktober-2025-16-x-9-Zoll-10.png
END:VEVENT
END:VCALENDAR