BEGIN:VCALENDAR
VERSION:2.0
PRODID:-//SDFS - ECPv6.15.20//NONSGML v1.0//EN
CALSCALE:GREGORIAN
METHOD:PUBLISH
X-WR-CALNAME:SDFS
X-ORIGINAL-URL:https://demofabriksiegen.de
X-WR-CALDESC:Veranstaltungen für SDFS
REFRESH-INTERVAL;VALUE=DURATION:PT1H
X-Robots-Tag:noindex
X-PUBLISHED-TTL:PT1H
BEGIN:VTIMEZONE
TZID:Europe/Berlin
BEGIN:DAYLIGHT
TZOFFSETFROM:+0100
TZOFFSETTO:+0200
TZNAME:CEST
DTSTART:20250330T010000
END:DAYLIGHT
BEGIN:STANDARD
TZOFFSETFROM:+0200
TZOFFSETTO:+0100
TZNAME:CET
DTSTART:20251026T010000
END:STANDARD
BEGIN:DAYLIGHT
TZOFFSETFROM:+0100
TZOFFSETTO:+0200
TZNAME:CEST
DTSTART:20260329T010000
END:DAYLIGHT
BEGIN:STANDARD
TZOFFSETFROM:+0200
TZOFFSETTO:+0100
TZNAME:CET
DTSTART:20261025T010000
END:STANDARD
BEGIN:DAYLIGHT
TZOFFSETFROM:+0100
TZOFFSETTO:+0200
TZNAME:CEST
DTSTART:20270328T010000
END:DAYLIGHT
BEGIN:STANDARD
TZOFFSETFROM:+0200
TZOFFSETTO:+0100
TZNAME:CET
DTSTART:20271031T010000
END:STANDARD
BEGIN:DAYLIGHT
TZOFFSETFROM:+0100
TZOFFSETTO:+0200
TZNAME:CEST
DTSTART:20280326T010000
END:DAYLIGHT
BEGIN:STANDARD
TZOFFSETFROM:+0200
TZOFFSETTO:+0100
TZNAME:CET
DTSTART:20281029T010000
END:STANDARD
END:VTIMEZONE
BEGIN:VEVENT
DTSTART;TZID=Europe/Berlin:20260521T170000
DTEND;TZID=Europe/Berlin:20260521T190000
DTSTAMP:20260425T184346
CREATED:20251125T080051Z
LAST-MODIFIED:20251125T080051Z
UID:2803-1779382800-1779390000@demofabriksiegen.de
SUMMARY:Productive Afterhour 21.5
DESCRIPTION:Productive Afterhour bei der SDFS\nDie Productive Afterhour der SDFS bietet Raum für Inspiration\, Austausch und neue Impulse rund um die Themen Digitalisierung\, Produktion und technologische Innovationen. In entspannter Afterwork-Atmosphäre kommen Fach- und Führungskräfte\, Interessierte sowie Mitglieder des SDFS-Netzwerks zusammen\, um sich über aktuelle Entwicklungen und praxisnahe Anwendungsfälle auszutauschen. \nIm Mittelpunkt der Veranstaltung steht ein spannender Impulsvortrag eines externen Partners oder Experten aus der Industrie. Die Inhalte reichen von innovativen Technologien über digitale Transformationsprozesse bis hin zu Best-Practice-Beispielen aus der modernen Produktion. Im Anschluss bleibt Zeit für offene Gespräche\, Networking und den informellen Austausch über Chancen\, Herausforderungen und Zukunftspotenziale. \nWeitere Informationen zum Thema des Impulsvortrags und des referierenden Unternehmens folgen in Kürze…
URL:https://demofabriksiegen.de/event/productive-afterhour-21-5/
LOCATION:Campus Buschhütten\, Siegener Str. 152\, Kreuztal\, NRW\, 57223\, Germany
ATTACH;FMTTYPE=image/png:https://demofabriksiegen.de/wp-content/uploads/2025/11/Productive-Afterhour-30.-Oktober-2025-16-x-9-Zoll-3.png
END:VEVENT
BEGIN:VEVENT
DTSTART;VALUE=DATE:20260708
DTEND;VALUE=DATE:20260709
DTSTAMP:20260425T184346
CREATED:20251015T100958Z
LAST-MODIFIED:20260218T094133Z
UID:2588-1783468800-1783555199@demofabriksiegen.de
SUMMARY:Impulsforum 2026
DESCRIPTION:Impulsforum – Nachhaltig Wettbewerbsfähig\nDas Thema für unser nächstes Impulsforum steht: Nachhaltig Wettbewerbsfähig. Das Mega-Event aus dem Jahr 2024 findet im Sommer 2026 seine Fortsetzung. Freuen Sie sich auf namhafte Speaker und einen ganzen Tag voller neuer und wertschöpfender Impulse. \nSave the Date! Alle weiteren Info´s zum Event auf der Landingpage. Hier klicken!
URL:https://demofabriksiegen.de/event/impulsforum-2026/
LOCATION:Campus Buschhütten\, Siegener Str. 152\, Kreuztal\, NRW\, 57223\, Germany
ATTACH;FMTTYPE=image/png:https://demofabriksiegen.de/wp-content/uploads/2025/10/Productive-Afterhour-30.-Oktober-2025-16-x-9-Zoll-3.png
END:VEVENT
BEGIN:VEVENT
DTSTART;TZID=Europe/Berlin:20260806T080000
DTEND;TZID=Europe/Berlin:20260807T170000
DTSTAMP:20260425T184346
CREATED:20251125T090753Z
LAST-MODIFIED:20251125T090753Z
UID:2817-1786003200-1786122000@demofabriksiegen.de
SUMMARY:Lean Production Seminar August
DESCRIPTION:Lean Production Seminar 2026 – Praxisnahe Lean-Management-Weiterbildung\nSteigern Sie die Effizienz Ihrer Produktionsprozesse und machen Sie Ihr Unternehmen fit für die Zukunft: In unserem Lean Production Seminar lernen Sie die zentralen Prinzipien\, Methoden und Werkzeuge des Lean Managements kennen. Die Weiterbildung wird 2026 dreimal angeboten und richtet sich an alle\, die Produktionsabläufe nachhaltig verbessern und Lean-Prinzipien erfolgreich im Unternehmen verankern möchten. \nDas Seminar vermittelt praxisbewährte Strategien zur Prozessoptimierung\, Verschwendungsreduzierung und Effizienzsteigerung. Ein erfahrener Lean-Management-Experte zeigt Schritt für Schritt\, wie Lean-Methoden im betrieblichen Alltag angewendet werden – verständlich\, umsetzbar und direkt auf die eigene Produktionsumgebung übertragbar. \nInhalte des Lean Production Seminars\n\nGrundlagen & Lean-Methoden: Einführung in die 7+1 Verschwendungsarten\, 6S\, SMED-Rüstzeitoptimierung sowie Wertstromanalyse und Wertstromdesign\nPraxisorientierte Übungen: Anwendung des Erlernten im Planspiel Lean Production Racer und weiteren realitätsnahen Trainingssequenzen\nAustausch & Networking: Lernen von Best Practices\, Diskussion mit Teilnehmenden aus Produktion\, Logistik\, Fertigung und Prozessmanagement\n\nIhre Vorteile\n\nDirekt anwendbares Lean-Wissen\nVerbesserte Prozessqualität und reduzierte Durchlaufzeiten\nPraxisnahe Übungen für einen schnellen Transfer in den Arbeitsalltag\nAustausch mit Expertinnen\, Experten und Branchenkolleg:innen\n\nZielgruppe des Seminars\nDas Lean Production Seminar richtet sich an Fach- und Führungskräfte aus Produktion\, Fertigungssteuerung\, Logistik\, Prozessmanagement sowie an alle\, die Lean-Management-Methoden gezielt einsetzen wollen\, um Prozesse zu stabilisieren\, Kosten zu senken und die Wettbewerbsfähigkeit zu steigern. \nAnmeldungen per Mail bei Marius Wigger!
URL:https://demofabriksiegen.de/event/lean-production-seminar-august/
LOCATION:Campus Buschhütten\, Siegener Str. 152\, Kreuztal\, NRW\, 57223\, Germany
ATTACH;FMTTYPE=image/png:https://demofabriksiegen.de/wp-content/uploads/2025/11/Productive-Afterhour-30.-Oktober-2025-16-x-9-Zoll-6.png
END:VEVENT
BEGIN:VEVENT
DTSTART;TZID=Europe/Berlin:20260903T140000
DTEND;TZID=Europe/Berlin:20260903T190000
DTSTAMP:20260425T184346
CREATED:20251016T084832Z
LAST-MODIFIED:20251016T084832Z
UID:2616-1788444000-1788462000@demofabriksiegen.de
SUMMARY:Partnertreffen
DESCRIPTION:Save the Date!\nDas alljährliche Partnertreffen geht hiermit bereits in die 7.Runde.\nNeben interessanten Fachvorträgen und Updates aus der SDFS\, werden auch interaktive Sessions zu spannenden Themen angeboten\, die die Unternehmen in Südwestfalen im Jahr 2026 prägen werden. \nDie Agenda und der Zeitplan werden hier noch bekannt gegeben. \nAußerdem darf man sich auf einen interessanten Austausch und nette Gespräche bei gutem Essen und dem ein oder anderen Getränk freuen!
URL:https://demofabriksiegen.de/event/partnertreffen/
LOCATION:Campus Buschhütten\, Siegener Str. 152\, Kreuztal\, NRW\, 57223\, Germany
ATTACH;FMTTYPE=image/png:https://demofabriksiegen.de/wp-content/uploads/2025/10/Partnertreffen.png
END:VEVENT
BEGIN:VEVENT
DTSTART;TZID=Europe/Berlin:20261008T170000
DTEND;TZID=Europe/Berlin:20261008T190000
DTSTAMP:20260425T184346
CREATED:20251125T080322Z
LAST-MODIFIED:20260414T105327Z
UID:2807-1791478800-1791486000@demofabriksiegen.de
SUMMARY:Productive Afterhour 8.10
DESCRIPTION:Productive Afterhour bei der SDFS\nDie Productive Afterhour der SDFS bietet Raum für Inspiration\, Austausch und neue Impulse rund um die Themen Digitalisierung\, Produktion und technologische Innovationen. In entspannter Afterwork-Atmosphäre kommen Fach- und Führungskräfte\, Interessierte sowie Mitglieder des SDFS-Netzwerks zusammen\, um sich über aktuelle Entwicklungen und praxisnahe Anwendungsfälle auszutauschen. \nIm Mittelpunkt der Veranstaltung steht ein spannender Impulsvortrag eines externen Partners oder Experten aus der Industrie. Die Inhalte reichen von innovativen Technologien über digitale Transformationsprozesse bis hin zu Best-Practice-Beispielen aus der modernen Produktion. Im Anschluss bleibt Zeit für offene Gespräche\, Networking und den informellen Austausch über Chancen\, Herausforderungen und Zukunftspotenziale. \nWeitere Informationen zum Thema des Impulsvortrags und des referierenden Unternehmens folgen in Kürze…
URL:https://demofabriksiegen.de/event/productive-afterhour-8-10/
LOCATION:Campus Buschhütten\, Siegener Str. 152\, Kreuztal\, NRW\, 57223\, Germany
ATTACH;FMTTYPE=image/png:https://demofabriksiegen.de/wp-content/uploads/2025/11/SDFS-Veranstaltungen.png
END:VEVENT
BEGIN:VEVENT
DTSTART;TZID=Europe/Berlin:20261105T080000
DTEND;TZID=Europe/Berlin:20261106T170000
DTSTAMP:20260425T184346
CREATED:20251125T091642Z
LAST-MODIFIED:20251125T091642Z
UID:2821-1793865600-1793984400@demofabriksiegen.de
SUMMARY:Lean Production Seminar November
DESCRIPTION:Lean Production Seminar 2026 – Praxisnahe Lean-Management-Weiterbildung\nSteigern Sie die Effizienz Ihrer Produktionsprozesse und machen Sie Ihr Unternehmen fit für die Zukunft: In unserem Lean Production Seminar lernen Sie die zentralen Prinzipien\, Methoden und Werkzeuge des Lean Managements kennen. Die Weiterbildung wird 2026 dreimal angeboten und richtet sich an alle\, die Produktionsabläufe nachhaltig verbessern und Lean-Prinzipien erfolgreich im Unternehmen verankern möchten. \nDas Seminar vermittelt praxisbewährte Strategien zur Prozessoptimierung\, Verschwendungsreduzierung und Effizienzsteigerung. Ein erfahrener Lean-Management-Experte zeigt Schritt für Schritt\, wie Lean-Methoden im betrieblichen Alltag angewendet werden – verständlich\, umsetzbar und direkt auf die eigene Produktionsumgebung übertragbar. \nInhalte des Lean Production Seminars\n\nGrundlagen & Lean-Methoden: Einführung in die 7+1 Verschwendungsarten\, 6S\, SMED-Rüstzeitoptimierung sowie Wertstromanalyse und Wertstromdesign\nPraxisorientierte Übungen: Anwendung des Erlernten im Planspiel Lean Production Racer und weiteren realitätsnahen Trainingssequenzen\nAustausch & Networking: Lernen von Best Practices\, Diskussion mit Teilnehmenden aus Produktion\, Logistik\, Fertigung und Prozessmanagement\n\nIhre Vorteile\n\nDirekt anwendbares Lean-Wissen\nVerbesserte Prozessqualität und reduzierte Durchlaufzeiten\nPraxisnahe Übungen für einen schnellen Transfer in den Arbeitsalltag\nAustausch mit Expertinnen\, Experten und Branchenkolleg:innen\n\nZielgruppe des Seminars\nDas Lean Production Seminar richtet sich an Fach- und Führungskräfte aus Produktion\, Fertigungssteuerung\, Logistik\, Prozessmanagement sowie an alle\, die Lean-Management-Methoden gezielt einsetzen wollen\, um Prozesse zu stabilisieren\, Kosten zu senken und die Wettbewerbsfähigkeit zu steigern. \nAnmeldungen per Mail bei Marius Wigger!
URL:https://demofabriksiegen.de/event/lean-production-seminar-november/
LOCATION:Campus Buschhütten\, Siegener Str. 152\, Kreuztal\, NRW\, 57223\, Germany
ATTACH;FMTTYPE=image/png:https://demofabriksiegen.de/wp-content/uploads/2025/11/Productive-Afterhour-30.-Oktober-2025-16-x-9-Zoll-7.png
END:VEVENT
BEGIN:VEVENT
DTSTART;TZID=Europe/Berlin:20261125T100000
DTEND;TZID=Europe/Berlin:20261125T150000
DTSTAMP:20260425T184346
CREATED:20260310T101303Z
LAST-MODIFIED:20260310T101303Z
UID:3097-1795600800-1795618800@demofabriksiegen.de
SUMMARY:Expert Circle: Factory OS
DESCRIPTION:Expert Circle: Factory OS \nDer Expert Circle richtet sich an produzierende Unternehmen und Softwareanbieter\, die \n\nDigitalisierung gezielt vorantreiben\,\nDaten effizient und sicher nutzen\,\nCyber Security stärken\,\nInteroperabilität verbessern\,\nmoderne\, zukunftsfähige Produktionsarchitekturen aufbauen möchten.\n\nWeitere Infos zum Thema und Referenten im November folgen noch. \nIm Expert Circle bündeln wir Erfahrungen\, Best Practices und konkrete Use Cases. Sie profitieren vom offenen Austausch mit anderen Expert:innen\, erhalten neue Perspektiven für Ihr Unternehmen und entwickeln gemeinsam Lösungsansätze\, die sich direkt in der Praxis umsetzen lassen. \nJetzt dabei sein:Für die Anmeldung zum Kick-off genügt eine kurze E-Mail an Luisa Stracke.
URL:https://demofabriksiegen.de/event/expert-circle-factory-os/
LOCATION:Campus Buschhütten\, Siegener Str. 152\, Kreuztal\, NRW\, 57223\, Germany
ATTACH;FMTTYPE=image/png:https://demofabriksiegen.de/wp-content/uploads/2026/03/Productive-Afterhour-30.-Oktober-2025-16-x-9-Zoll-14.png
END:VEVENT
BEGIN:VEVENT
DTSTART;VALUE=DATE:20270310
DTEND;VALUE=DATE:20270313
DTSTAMP:20260425T184346
CREATED:20260423T083415Z
LAST-MODIFIED:20260424T063916Z
UID:3232-1804636800-1804895999@demofabriksiegen.de
SUMMARY:LightMAT 2027
DESCRIPTION:LightMAT 2027 – 7th International Conference on Light Materials\nDie 7. Internationale Konferenz für Leichtmetalle – Wissenschaft und Technologie (LightMAT 2027) bietet eine einzigartige Plattform für den Austausch zwischen Forschung und Industrie. Im Mittelpunkt stehen die drei zentralen Leichtmetalle Aluminium\, Magnesium und Titan sowie deren Legierungen – sowohl einzeln betrachtet als auch im Kontext moderner Multi-Material-Designs. \nÜber drei Konferenztage hinweg werden aktuelle Entwicklungen\, innovative Anwendungen und neue wissenschaftliche Erkenntnisse entlang der gesamten Wertschöpfungskette beleuchtet: von grundlegenden metallurgischen Fragestellungen über Verarbeitung\, Fügetechnologien und Korrosionsschutz bis hin zu modernen Fertigungsverfahren und Simulationstechniken. \nEin besonderer Fokus liegt auf dem Schwerpunktthema „Green Manufacturing und nachhaltige Materialien“. Diskutiert wird\, wie innovative Ansätze aus der Materialwissenschaft mit industriellen Anforderungen in Einklang gebracht werden können\, um geschlossene Materialkreisläufe zu fördern\, Ressourcen effizienter zu nutzen und den Einsatz primärer Rohstoffe zu reduzieren. Ziel ist es\, gemeinsam Wege zu einer nachhaltigeren und resilienteren Produktion zu entwickeln. \nDie Konferenz deckt unter anderem folgende Themenbereiche ab: \n\nMetallurgie und grundlegende Eigenschaften von Leichtmetallen und deren Legierungen\nLeichtbauanwendungen in Automobil-\, Luftfahrt- und Transportindustrie\nMikrostrukturentwicklung und Materialeigenschaften\nIndustrielle Fertigungsprozesse\, Fügen und Korrosionsschutz\nAdditive Fertigung für innovative Leichtbaustrukturen\nUmformbarkeit und moderne Umformtechnologien\n\nLightMAT 2027 richtet sich an Wissenschaftlerinnen und Wissenschaftler\, Ingenieurinnen und Ingenieure sowie Fachleute aus der Industrie und bietet neben fachlichen Impulsen zahlreiche Möglichkeiten zum Networking und interdisziplinären Austausch.
URL:https://demofabriksiegen.de/event/lightmat-2027/
LOCATION:Campus Buschhütten\, Siegener Str. 152\, Kreuztal\, NRW\, 57223\, Germany
ATTACH;FMTTYPE=image/png:https://demofabriksiegen.de/wp-content/uploads/2026/04/SDFS-Veranstaltungen-2.png
END:VEVENT
END:VCALENDAR