BEGIN:VCALENDAR
VERSION:2.0
PRODID:-//SDFS - ECPv6.15.20//NONSGML v1.0//EN
CALSCALE:GREGORIAN
METHOD:PUBLISH
X-ORIGINAL-URL:https://demofabriksiegen.de
X-WR-CALDESC:Veranstaltungen für SDFS
REFRESH-INTERVAL;VALUE=DURATION:PT1H
X-Robots-Tag:noindex
X-PUBLISHED-TTL:PT1H
BEGIN:VTIMEZONE
TZID:Europe/Berlin
BEGIN:DAYLIGHT
TZOFFSETFROM:+0100
TZOFFSETTO:+0200
TZNAME:CEST
DTSTART:20250330T010000
END:DAYLIGHT
BEGIN:STANDARD
TZOFFSETFROM:+0200
TZOFFSETTO:+0100
TZNAME:CET
DTSTART:20251026T010000
END:STANDARD
BEGIN:DAYLIGHT
TZOFFSETFROM:+0100
TZOFFSETTO:+0200
TZNAME:CEST
DTSTART:20260329T010000
END:DAYLIGHT
BEGIN:STANDARD
TZOFFSETFROM:+0200
TZOFFSETTO:+0100
TZNAME:CET
DTSTART:20261025T010000
END:STANDARD
BEGIN:DAYLIGHT
TZOFFSETFROM:+0100
TZOFFSETTO:+0200
TZNAME:CEST
DTSTART:20270328T010000
END:DAYLIGHT
BEGIN:STANDARD
TZOFFSETFROM:+0200
TZOFFSETTO:+0100
TZNAME:CET
DTSTART:20271031T010000
END:STANDARD
END:VTIMEZONE
BEGIN:VEVENT
DTSTART;TZID=Europe/Berlin:20260219T133000
DTEND;TZID=Europe/Berlin:20260219T140000
DTSTAMP:20260425T224043
CREATED:20260213T124536Z
LAST-MODIFIED:20260213T124536Z
UID:3033-1771507800-1771509600@demofabriksiegen.de
SUMMARY:Einstieg in die Automatisierung - Webinar
DESCRIPTION:Wie helfen kompakte Automatisierungslösungen\, dem Fachkräftemangel und steigendem Kostendruck zu begegnen? \nCLOOS Spotlight #1 – Einstieg in die Automatisierung\nFachkräftemangel und steigender Kostendruck erfordern neue Lösungen. In diesem Webinar zeigt unser Partner CLOOS\, wie kompakte Automatisierungslösungen Prozesse effizienter machen\, Mitarbeitende entlasten und sich schnell sowie wirtschaftlich umsetzen lassen – praxisnah und auf den Punkt.
URL:https://demofabriksiegen.de/event/einstieg-in-die-automatisierung-webinar/
LOCATION:online
ATTACH;FMTTYPE=image/png:https://demofabriksiegen.de/wp-content/uploads/2026/02/Productive-Afterhour-30.-Oktober-2025-16-x-9-Zoll-12.png
END:VEVENT
END:VCALENDAR