BEGIN:VCALENDAR
VERSION:2.0
PRODID:-//SDFS - ECPv6.15.20//NONSGML v1.0//EN
CALSCALE:GREGORIAN
METHOD:PUBLISH
X-ORIGINAL-URL:https://demofabriksiegen.de
X-WR-CALDESC:Veranstaltungen für SDFS
REFRESH-INTERVAL;VALUE=DURATION:PT1H
X-Robots-Tag:noindex
X-PUBLISHED-TTL:PT1H
BEGIN:VTIMEZONE
TZID:Europe/Berlin
BEGIN:DAYLIGHT
TZOFFSETFROM:+0100
TZOFFSETTO:+0200
TZNAME:CEST
DTSTART:20250330T010000
END:DAYLIGHT
BEGIN:STANDARD
TZOFFSETFROM:+0200
TZOFFSETTO:+0100
TZNAME:CET
DTSTART:20251026T010000
END:STANDARD
BEGIN:DAYLIGHT
TZOFFSETFROM:+0100
TZOFFSETTO:+0200
TZNAME:CEST
DTSTART:20260329T010000
END:DAYLIGHT
BEGIN:STANDARD
TZOFFSETFROM:+0200
TZOFFSETTO:+0100
TZNAME:CET
DTSTART:20261025T010000
END:STANDARD
BEGIN:DAYLIGHT
TZOFFSETFROM:+0100
TZOFFSETTO:+0200
TZNAME:CEST
DTSTART:20270328T010000
END:DAYLIGHT
BEGIN:STANDARD
TZOFFSETFROM:+0200
TZOFFSETTO:+0100
TZNAME:CET
DTSTART:20271031T010000
END:STANDARD
END:VTIMEZONE
BEGIN:VEVENT
DTSTART;TZID=Europe/Berlin:20260806T080000
DTEND;TZID=Europe/Berlin:20260807T170000
DTSTAMP:20260426T013640
CREATED:20251125T090753Z
LAST-MODIFIED:20251125T090753Z
UID:2817-1786003200-1786122000@demofabriksiegen.de
SUMMARY:Lean Production Seminar August
DESCRIPTION:Lean Production Seminar 2026 – Praxisnahe Lean-Management-Weiterbildung\nSteigern Sie die Effizienz Ihrer Produktionsprozesse und machen Sie Ihr Unternehmen fit für die Zukunft: In unserem Lean Production Seminar lernen Sie die zentralen Prinzipien\, Methoden und Werkzeuge des Lean Managements kennen. Die Weiterbildung wird 2026 dreimal angeboten und richtet sich an alle\, die Produktionsabläufe nachhaltig verbessern und Lean-Prinzipien erfolgreich im Unternehmen verankern möchten. \nDas Seminar vermittelt praxisbewährte Strategien zur Prozessoptimierung\, Verschwendungsreduzierung und Effizienzsteigerung. Ein erfahrener Lean-Management-Experte zeigt Schritt für Schritt\, wie Lean-Methoden im betrieblichen Alltag angewendet werden – verständlich\, umsetzbar und direkt auf die eigene Produktionsumgebung übertragbar. \nInhalte des Lean Production Seminars\n\nGrundlagen & Lean-Methoden: Einführung in die 7+1 Verschwendungsarten\, 6S\, SMED-Rüstzeitoptimierung sowie Wertstromanalyse und Wertstromdesign\nPraxisorientierte Übungen: Anwendung des Erlernten im Planspiel Lean Production Racer und weiteren realitätsnahen Trainingssequenzen\nAustausch & Networking: Lernen von Best Practices\, Diskussion mit Teilnehmenden aus Produktion\, Logistik\, Fertigung und Prozessmanagement\n\nIhre Vorteile\n\nDirekt anwendbares Lean-Wissen\nVerbesserte Prozessqualität und reduzierte Durchlaufzeiten\nPraxisnahe Übungen für einen schnellen Transfer in den Arbeitsalltag\nAustausch mit Expertinnen\, Experten und Branchenkolleg:innen\n\nZielgruppe des Seminars\nDas Lean Production Seminar richtet sich an Fach- und Führungskräfte aus Produktion\, Fertigungssteuerung\, Logistik\, Prozessmanagement sowie an alle\, die Lean-Management-Methoden gezielt einsetzen wollen\, um Prozesse zu stabilisieren\, Kosten zu senken und die Wettbewerbsfähigkeit zu steigern. \nAnmeldungen per Mail bei Marius Wigger!
URL:https://demofabriksiegen.de/event/lean-production-seminar-august/
LOCATION:Campus Buschhütten\, Siegener Str. 152\, Kreuztal\, NRW\, 57223\, Germany
ATTACH;FMTTYPE=image/png:https://demofabriksiegen.de/wp-content/uploads/2025/11/Productive-Afterhour-30.-Oktober-2025-16-x-9-Zoll-6.png
END:VEVENT
END:VCALENDAR